BEGIN:VCALENDAR
VERSION:2.0
PRODID:-//Department Of Education//6a728423-61f0-408f-ac97-a9e9cb9d33ce
BEGIN:VTIMEZONE
TZID:Australia/Sydney
TZURL:http://tzurl.org/zoneinfo-outlook/Australia/Sydney
X-LIC-LOCATION:Australia/Sydney
BEGIN:STANDARD
TZOFFSETFROM:+1100
TZOFFSETTO:+1000
TZNAME:AEST
DTSTART:19700405T030000
RRULE:FREQ=YEARLY;BYMONTH=4;BYDAY=1SU
END:STANDARD
BEGIN:DAYLIGHT
TZOFFSETFROM:+1000
TZOFFSETTO:+1100
TZNAME:AEDT
DTSTART:19701004T020000
RRULE:FREQ=YEARLY;BYMONTH=10;BYDAY=1SU
END:DAYLIGHT
END:VTIMEZONE
CALSCALE:GREGORIAN
X-WR-TIMEZONE:Australia/Sydney
BEGIN:VEVENT
DTSTART;TZID=Australia/Sydney:20191018T100000
DTEND;TZID=Australia/Sydney:20191018T114000
DTSTAMP:20191018T000000Z
UID:ece25ff4-e151-45d7-9fbe-2cfb70f8fd08
LOCATION:MCS Primary
SUMMARY;LANGUAGE=en-us:Grandparent's Day
SEQUENCE:0
DESCRIPTION:Grandparent's Day
END:VEVENT
TRANSP:TRANSPARENT
END:VCALENDAR
