BEGIN:VCALENDAR
VERSION:2.0
PRODID:-//Department Of Education//7a06e606-701a-4f78-ad88-879711c52f07
BEGIN:VTIMEZONE
TZID:Australia/Sydney
TZURL:http://tzurl.org/zoneinfo-outlook/Australia/Sydney
X-LIC-LOCATION:Australia/Sydney
BEGIN:STANDARD
TZOFFSETFROM:+1100
TZOFFSETTO:+1000
TZNAME:AEST
DTSTART:19700405T030000
RRULE:FREQ=YEARLY;BYMONTH=4;BYDAY=1SU
END:STANDARD
BEGIN:DAYLIGHT
TZOFFSETFROM:+1000
TZOFFSETTO:+1100
TZNAME:AEDT
DTSTART:19701004T020000
RRULE:FREQ=YEARLY;BYMONTH=10;BYDAY=1SU
END:DAYLIGHT
END:VTIMEZONE
CALSCALE:GREGORIAN
X-WR-TIMEZONE:Australia/Sydney
BEGIN:VEVENT
DTSTART;VALUE=DATE:20191017
DTEND;VALUE=DATE:20191018
DTSTAMP:20191017T000000Z
UID:42e5dcac-9a75-4762-a25a-07459e57e876
LOCATION:Manilla Central School
SUMMARY;LANGUAGE=en-us:HSC Exams Start
SEQUENCE:0
DESCRIPTION:HSC Exams Start
END:VEVENT
TRANSP:TRANSPARENT
END:VCALENDAR
