BEGIN:VCALENDAR
VERSION:2.0
PRODID:-//Department Of Education//fabd85e6-a052-43a2-ab11-cde657f36f57
BEGIN:VTIMEZONE
TZID:Australia/Sydney
TZURL:http://tzurl.org/zoneinfo-outlook/Australia/Sydney
X-LIC-LOCATION:Australia/Sydney
BEGIN:STANDARD
TZOFFSETFROM:+1100
TZOFFSETTO:+1000
TZNAME:AEST
DTSTART:19700405T030000
RRULE:FREQ=YEARLY;BYMONTH=4;BYDAY=1SU
END:STANDARD
BEGIN:DAYLIGHT
TZOFFSETFROM:+1000
TZOFFSETTO:+1100
TZNAME:AEDT
DTSTART:19701004T020000
RRULE:FREQ=YEARLY;BYMONTH=10;BYDAY=1SU
END:DAYLIGHT
END:VTIMEZONE
CALSCALE:GREGORIAN
X-WR-TIMEZONE:Australia/Sydney
BEGIN:VEVENT
DTSTART;TZID=Australia/Sydney:20191021T091000
DTEND;TZID=Australia/Sydney:20191021T133000
DTSTAMP:20191021T000000Z
UID:716fb0b2-3126-4fb2-849c-f0df3edd9b98
LOCATION:MCS Primary
SUMMARY;LANGUAGE=en-us:Kindergarten 2020 Prep Days
RRULE:FREQ=WEEKLY;INTERVAL=1;UNTIL=20191209;
SEQUENCE:0
DESCRIPTION:Preparation classes for Kindergarten 2020 will commence on Monday, 2nd September 2019 at 9.10am. This will run for 13 weeks over the Terms 3 and 4. 
END:VEVENT
TRANSP:TRANSPARENT
END:VCALENDAR
