BEGIN:VCALENDAR
VERSION:2.0
PRODID:-//Department Of Education//1d50eb80-d0fe-465a-bcf9-52939cb56dd1
BEGIN:VTIMEZONE
TZID:Australia/Sydney
TZURL:http://tzurl.org/zoneinfo-outlook/Australia/Sydney
X-LIC-LOCATION:Australia/Sydney
BEGIN:STANDARD
TZOFFSETFROM:+1100
TZOFFSETTO:+1000
TZNAME:AEST
DTSTART:19700405T030000
RRULE:FREQ=YEARLY;BYMONTH=4;BYDAY=1SU
END:STANDARD
BEGIN:DAYLIGHT
TZOFFSETFROM:+1000
TZOFFSETTO:+1100
TZNAME:AEDT
DTSTART:19701004T020000
RRULE:FREQ=YEARLY;BYMONTH=10;BYDAY=1SU
END:DAYLIGHT
END:VTIMEZONE
CALSCALE:GREGORIAN
X-WR-TIMEZONE:Australia/Sydney
BEGIN:VEVENT
DTSTART;VALUE=DATE:20191021
DTEND;VALUE=DATE:20191026
DTSTAMP:20191021T000000Z
UID:7440d03c-20e4-4c8a-ba10-a46e3404a811
LOCATION:Canberra
SUMMARY;LANGUAGE=en-us:Year 5 and 6 Canberra Excursion
SEQUENCE:0
DESCRIPTION:The 2019 Stage 3 excursion to Canberra.
END:VEVENT
TRANSP:TRANSPARENT
END:VCALENDAR
