BEGIN:VCALENDAR
VERSION:2.0
PRODID:-//Department Of Education//a93c87a5-89e2-4e80-990a-fdb9b00278f9
BEGIN:VTIMEZONE
TZID:Australia/Sydney
TZURL:http://tzurl.org/zoneinfo-outlook/Australia/Sydney
X-LIC-LOCATION:Australia/Sydney
BEGIN:STANDARD
TZOFFSETFROM:+1100
TZOFFSETTO:+1000
TZNAME:AEST
DTSTART:19700405T030000
RRULE:FREQ=YEARLY;BYMONTH=4;BYDAY=1SU
END:STANDARD
BEGIN:DAYLIGHT
TZOFFSETFROM:+1000
TZOFFSETTO:+1100
TZNAME:AEDT
DTSTART:19701004T020000
RRULE:FREQ=YEARLY;BYMONTH=10;BYDAY=1SU
END:DAYLIGHT
END:VTIMEZONE
CALSCALE:GREGORIAN
X-WR-TIMEZONE:Australia/Sydney
BEGIN:VEVENT
DTSTART;VALUE=DATE:20191028
DTEND;VALUE=DATE:20191102
DTSTAMP:20191028T000000Z
UID:51126d5d-82f6-4ab1-a9e2-ae12e47ace72
LOCATION:Manilla Central School
SUMMARY;LANGUAGE=en-us:Yr 7-10 Exam Week
SEQUENCE:0
DESCRIPTION:Exam Week for Years 7 - 10
END:VEVENT
TRANSP:TRANSPARENT
END:VCALENDAR
