BEGIN:VCALENDAR
VERSION:2.0
PRODID:-//Department Of Education//e6b5bc53-888b-42dc-9f2d-2cd32cb2643a
BEGIN:VTIMEZONE
TZID:Australia/Sydney
TZURL:http://tzurl.org/zoneinfo-outlook/Australia/Sydney
X-LIC-LOCATION:Australia/Sydney
BEGIN:STANDARD
TZOFFSETFROM:+1100
TZOFFSETTO:+1000
TZNAME:AEST
DTSTART:19700405T030000
RRULE:FREQ=YEARLY;BYMONTH=4;BYDAY=1SU
END:STANDARD
BEGIN:DAYLIGHT
TZOFFSETFROM:+1000
TZOFFSETTO:+1100
TZNAME:AEDT
DTSTART:19701004T020000
RRULE:FREQ=YEARLY;BYMONTH=10;BYDAY=1SU
END:DAYLIGHT
END:VTIMEZONE
CALSCALE:GREGORIAN
X-WR-TIMEZONE:Australia/Sydney
BEGIN:VEVENT
DTSTART;TZID=Australia/Sydney:20190531T163000
DTEND;TZID=Australia/Sydney:20190531T180000
DTSTAMP:20190531T000000Z
UID:c95ad342-844d-42f7-8e08-77e04182a3b5
LOCATION:Tamworth
SUMMARY;LANGUAGE=en-us:School Rugby Competition
RRULE:FREQ=WEEKLY;INTERVAL=1;UNTIL=20190927;
SEQUENCE:0
DESCRIPTION:School Rugby Competition with Barraba CS @ Tamworth
END:VEVENT
TRANSP:TRANSPARENT
END:VCALENDAR
