BEGIN:VCALENDAR
VERSION:2.0
PRODID:-//Department Of Education//976f98c7-9140-479c-bcdb-a20db7abf1d8
BEGIN:VTIMEZONE
TZID:Australia/Sydney
TZURL:http://tzurl.org/zoneinfo-outlook/Australia/Sydney
X-LIC-LOCATION:Australia/Sydney
BEGIN:STANDARD
TZOFFSETFROM:+1100
TZOFFSETTO:+1000
TZNAME:AEST
DTSTART:19700405T030000
RRULE:FREQ=YEARLY;BYMONTH=4;BYDAY=1SU
END:STANDARD
BEGIN:DAYLIGHT
TZOFFSETFROM:+1000
TZOFFSETTO:+1100
TZNAME:AEDT
DTSTART:19701004T020000
RRULE:FREQ=YEARLY;BYMONTH=10;BYDAY=1SU
END:DAYLIGHT
END:VTIMEZONE
CALSCALE:GREGORIAN
X-WR-TIMEZONE:Australia/Sydney
BEGIN:VEVENT
DTSTART;TZID=Australia/Sydney:20190605T070000
DTEND;TZID=Australia/Sydney:20190605T160000
DTSTAMP:20190605T000000Z
UID:01bcc51c-601d-4ce8-84e9-dcc62de863cd
LOCATION:Inverell Rugby Club
SUMMARY;LANGUAGE=en-us:Central Schools Touch Competition (Open Boys)
SEQUENCE:0
DESCRIPTION:Open boys North West Central Schools touch competition.
END:VEVENT
TRANSP:TRANSPARENT
END:VCALENDAR
