BEGIN:VCALENDAR
VERSION:2.0
PRODID:-//Department Of Education//cbf61135-352a-4060-be4f-0cfaf7bf0db9
BEGIN:VTIMEZONE
TZID:Australia/Sydney
TZURL:http://tzurl.org/zoneinfo-outlook/Australia/Sydney
X-LIC-LOCATION:Australia/Sydney
BEGIN:STANDARD
TZOFFSETFROM:+1100
TZOFFSETTO:+1000
TZNAME:AEST
DTSTART:19700405T030000
RRULE:FREQ=YEARLY;BYMONTH=4;BYDAY=1SU
END:STANDARD
BEGIN:DAYLIGHT
TZOFFSETFROM:+1000
TZOFFSETTO:+1100
TZNAME:AEDT
DTSTART:19701004T020000
RRULE:FREQ=YEARLY;BYMONTH=10;BYDAY=1SU
END:DAYLIGHT
END:VTIMEZONE
CALSCALE:GREGORIAN
X-WR-TIMEZONE:Australia/Sydney
BEGIN:VEVENT
DTSTART;TZID=Australia/Sydney:20190619T081500
DTEND;TZID=Australia/Sydney:20190619T150000
DTSTAMP:20190619T000000Z
UID:dd3621e9-b512-4387-ba3a-592f7b07c81c
LOCATION:Calrossy Anglican School - Tamworth
SUMMARY;LANGUAGE=en-us:Interschool Chess Challenge - Primary
SEQUENCE:0
DESCRIPTION:Interschool Chess Challenge to be held at Calrossy Anglican School in Tamworth on Wednesday, 19th June, 2019.
END:VEVENT
TRANSP:TRANSPARENT
END:VCALENDAR
