BEGIN:VCALENDAR
VERSION:2.0
PRODID:-//Department Of Education//097060da-2669-447e-b33f-a3e799b1a6ef
BEGIN:VTIMEZONE
TZID:Australia/Sydney
TZURL:http://tzurl.org/zoneinfo-outlook/Australia/Sydney
X-LIC-LOCATION:Australia/Sydney
BEGIN:STANDARD
TZOFFSETFROM:+1100
TZOFFSETTO:+1000
TZNAME:AEST
DTSTART:19700405T030000
RRULE:FREQ=YEARLY;BYMONTH=4;BYDAY=1SU
END:STANDARD
BEGIN:DAYLIGHT
TZOFFSETFROM:+1000
TZOFFSETTO:+1100
TZNAME:AEDT
DTSTART:19701004T020000
RRULE:FREQ=YEARLY;BYMONTH=10;BYDAY=1SU
END:DAYLIGHT
END:VTIMEZONE
CALSCALE:GREGORIAN
X-WR-TIMEZONE:Australia/Sydney
BEGIN:VEVENT
DTSTART;TZID=Australia/Sydney:20190606T141529
DTEND;TZID=Australia/Sydney:20190606T150000
DTSTAMP:20190606T000000Z
UID:91396d9a-6450-4209-8119-ecac3d21b3ea
LOCATION:Primary
SUMMARY;LANGUAGE=en-us:Primary Assembly Year 3-4 Ruby Hosting
SEQUENCE:0
DESCRIPTION:Primary Assembly Year 3-4 Ruby Hosting
END:VEVENT
TRANSP:TRANSPARENT
END:VCALENDAR
