BEGIN:VCALENDAR
VERSION:2.0
PRODID:-//Department Of Education//53e75c39-a4b8-4c38-ba8b-f9f2375f94ad
BEGIN:VTIMEZONE
TZID:Australia/Sydney
TZURL:http://tzurl.org/zoneinfo-outlook/Australia/Sydney
X-LIC-LOCATION:Australia/Sydney
BEGIN:STANDARD
TZOFFSETFROM:+1100
TZOFFSETTO:+1000
TZNAME:AEST
DTSTART:19700405T030000
RRULE:FREQ=YEARLY;BYMONTH=4;BYDAY=1SU
END:STANDARD
BEGIN:DAYLIGHT
TZOFFSETFROM:+1000
TZOFFSETTO:+1100
TZNAME:AEDT
DTSTART:19701004T020000
RRULE:FREQ=YEARLY;BYMONTH=10;BYDAY=1SU
END:DAYLIGHT
END:VTIMEZONE
CALSCALE:GREGORIAN
X-WR-TIMEZONE:Australia/Sydney
BEGIN:VEVENT
DTSTART;VALUE=DATE:20190610
DTEND;VALUE=DATE:20190611
DTSTAMP:20190610T000000Z
UID:f8c48267-1f4b-4a46-a9e3-ac12678b4410
LOCATION:Public Holiday
SUMMARY;LANGUAGE=en-us:Queen's Birthday Public Holiday
SEQUENCE:0
DESCRIPTION:Queen's Birthday Publich Holiday
END:VEVENT
TRANSP:TRANSPARENT
END:VCALENDAR
