BEGIN:VCALENDAR
VERSION:2.0
PRODID:-//Department Of Education//d4bff038-6272-40c4-a336-b33f92cc60f4
BEGIN:VTIMEZONE
TZID:Australia/Sydney
TZURL:http://tzurl.org/zoneinfo-outlook/Australia/Sydney
X-LIC-LOCATION:Australia/Sydney
BEGIN:STANDARD
TZOFFSETFROM:+1100
TZOFFSETTO:+1000
TZNAME:AEST
DTSTART:19700405T030000
RRULE:FREQ=YEARLY;BYMONTH=4;BYDAY=1SU
END:STANDARD
BEGIN:DAYLIGHT
TZOFFSETFROM:+1000
TZOFFSETTO:+1100
TZNAME:AEDT
DTSTART:19701004T020000
RRULE:FREQ=YEARLY;BYMONTH=10;BYDAY=1SU
END:DAYLIGHT
END:VTIMEZONE
CALSCALE:GREGORIAN
X-WR-TIMEZONE:Australia/Sydney
BEGIN:VEVENT
DTSTART;TZID=Australia/Sydney:20190627T100000
DTEND;TZID=Australia/Sydney:20190627T110000
DTSTAMP:20190627T000000Z
UID:342cdaed-08b9-415b-86f7-0719b4f314c2
LOCATION:Secondary Multi Purpose Centre
SUMMARY;LANGUAGE=en-us:Secondary Awards Assembly
SEQUENCE:0
DESCRIPTION:Secondary Awards Assembly
END:VEVENT
TRANSP:TRANSPARENT
END:VCALENDAR
