BEGIN:VCALENDAR
VERSION:2.0
PRODID:-//Department Of Education//278e0a55-4655-4d08-812f-d67a7368f400
BEGIN:VTIMEZONE
TZID:Australia/Sydney
TZURL:http://tzurl.org/zoneinfo-outlook/Australia/Sydney
X-LIC-LOCATION:Australia/Sydney
BEGIN:STANDARD
TZOFFSETFROM:+1100
TZOFFSETTO:+1000
TZNAME:AEST
DTSTART:19700405T030000
RRULE:FREQ=YEARLY;BYMONTH=4;BYDAY=1SU
END:STANDARD
BEGIN:DAYLIGHT
TZOFFSETFROM:+1000
TZOFFSETTO:+1100
TZNAME:AEDT
DTSTART:19701004T020000
RRULE:FREQ=YEARLY;BYMONTH=10;BYDAY=1SU
END:DAYLIGHT
END:VTIMEZONE
CALSCALE:GREGORIAN
X-WR-TIMEZONE:Australia/Sydney
BEGIN:VEVENT
DTSTART;TZID=Australia/Sydney:20190626T100000
DTEND;TZID=Australia/Sydney:20190626T152000
DTSTAMP:20190626T000000Z
UID:f4aaf154-1142-492e-98ed-104176815391
LOCATION:Tamworth TAFE
SUMMARY;LANGUAGE=en-us:TAFE Taster Day
SEQUENCE:0
DESCRIPTION:TAFE Taster Day
END:VEVENT
TRANSP:TRANSPARENT
END:VCALENDAR
