BEGIN:VCALENDAR
VERSION:2.0
PRODID:-//Department Of Education//53005490-8e23-4b4a-a7c8-73b753641095
BEGIN:VTIMEZONE
TZID:Australia/Sydney
TZURL:http://tzurl.org/zoneinfo-outlook/Australia/Sydney
X-LIC-LOCATION:Australia/Sydney
BEGIN:STANDARD
TZOFFSETFROM:+1100
TZOFFSETTO:+1000
TZNAME:AEST
DTSTART:19700405T030000
RRULE:FREQ=YEARLY;BYMONTH=4;BYDAY=1SU
END:STANDARD
BEGIN:DAYLIGHT
TZOFFSETFROM:+1000
TZOFFSETTO:+1100
TZNAME:AEDT
DTSTART:19701004T020000
RRULE:FREQ=YEARLY;BYMONTH=10;BYDAY=1SU
END:DAYLIGHT
END:VTIMEZONE
CALSCALE:GREGORIAN
X-WR-TIMEZONE:Australia/Sydney
BEGIN:VEVENT
DTSTART;TZID=Australia/Sydney:20190625T170000
DTEND;TZID=Australia/Sydney:20190625T183000
DTSTAMP:20190625T000000Z
UID:4597f000-d134-4b05-9647-37b51192bdc2
LOCATION:Secondary Library
SUMMARY;LANGUAGE=en-us:Year 11 Parent / Teacher Night
SEQUENCE:0
DESCRIPTION:Year 11 Parent / Teacher Night 
END:VEVENT
TRANSP:TRANSPARENT
END:VCALENDAR
