BEGIN:VCALENDAR
VERSION:2.0
PRODID:-//Department Of Education//9239d6b4-23ec-4e66-99aa-5434d1ad786b
BEGIN:VTIMEZONE
TZID:Australia/Sydney
TZURL:http://tzurl.org/zoneinfo-outlook/Australia/Sydney
X-LIC-LOCATION:Australia/Sydney
BEGIN:STANDARD
TZOFFSETFROM:+1100
TZOFFSETTO:+1000
TZNAME:AEST
DTSTART:19700405T030000
RRULE:FREQ=YEARLY;BYMONTH=4;BYDAY=1SU
END:STANDARD
BEGIN:DAYLIGHT
TZOFFSETFROM:+1000
TZOFFSETTO:+1100
TZNAME:AEDT
DTSTART:19701004T020000
RRULE:FREQ=YEARLY;BYMONTH=10;BYDAY=1SU
END:DAYLIGHT
END:VTIMEZONE
CALSCALE:GREGORIAN
X-WR-TIMEZONE:Australia/Sydney
BEGIN:VEVENT
DTSTART;VALUE=DATE:20190611
DTEND;VALUE=DATE:20190615
DTSTAMP:20190611T000000Z
UID:39091d92-52a8-4c9f-85cd-7c861e1b1d31
LOCATION:Manilla Central School
SUMMARY;LANGUAGE=en-us:Yrs 7-10 Exam Week
SEQUENCE:0
DESCRIPTION:Yrs 7-10 Exam Week
END:VEVENT
TRANSP:TRANSPARENT
END:VCALENDAR
