BEGIN:VCALENDAR
VERSION:2.0
PRODID:-//Department Of Education//1f20d2ea-4b46-4bea-a2bc-706c830d28ef
BEGIN:VTIMEZONE
TZID:Australia/Sydney
TZURL:http://tzurl.org/zoneinfo-outlook/Australia/Sydney
X-LIC-LOCATION:Australia/Sydney
BEGIN:STANDARD
TZOFFSETFROM:+1100
TZOFFSETTO:+1000
TZNAME:AEST
DTSTART:19700405T030000
RRULE:FREQ=YEARLY;BYMONTH=4;BYDAY=1SU
END:STANDARD
BEGIN:DAYLIGHT
TZOFFSETFROM:+1000
TZOFFSETTO:+1100
TZNAME:AEDT
DTSTART:19701004T020000
RRULE:FREQ=YEARLY;BYMONTH=10;BYDAY=1SU
END:DAYLIGHT
END:VTIMEZONE
CALSCALE:GREGORIAN
X-WR-TIMEZONE:Australia/Sydney
BEGIN:VEVENT
DTSTART;TZID=Australia/Sydney:20190703T091500
DTEND;TZID=Australia/Sydney:20190703T152000
DTSTAMP:20190703T000000Z
UID:8c5b0357-e60c-45a5-90cd-ed0c5f5353bb
LOCATION:Donnelly Fields, 50 Maitland Street, Gunnedah
SUMMARY;LANGUAGE=en-us:MCS Athletics Carnival
SEQUENCE:0
DESCRIPTION:MCS Athletics Carnival Track events for students aged 8yrs and up
END:VEVENT
TRANSP:TRANSPARENT
END:VCALENDAR
