BEGIN:VCALENDAR
VERSION:2.0
PRODID:-//Department Of Education//2332f58d-f0ca-4d1c-b642-5e38dbcf4668
BEGIN:VTIMEZONE
TZID:Australia/Sydney
TZURL:http://tzurl.org/zoneinfo-outlook/Australia/Sydney
X-LIC-LOCATION:Australia/Sydney
BEGIN:STANDARD
TZOFFSETFROM:+1100
TZOFFSETTO:+1000
TZNAME:AEST
DTSTART:19700405T030000
RRULE:FREQ=YEARLY;BYMONTH=4;BYDAY=1SU
END:STANDARD
BEGIN:DAYLIGHT
TZOFFSETFROM:+1000
TZOFFSETTO:+1100
TZNAME:AEDT
DTSTART:19701004T020000
RRULE:FREQ=YEARLY;BYMONTH=10;BYDAY=1SU
END:DAYLIGHT
END:VTIMEZONE
CALSCALE:GREGORIAN
X-WR-TIMEZONE:Australia/Sydney
BEGIN:VEVENT
DTSTART;TZID=Australia/Sydney:20190724T100000
DTEND;TZID=Australia/Sydney:20190724T110000
DTSTAMP:20190724T000000Z
UID:3a2361a9-8b34-4fc3-9c11-2c2d75ff1fe8
LOCATION:Secondary MPC (Hall)
SUMMARY;LANGUAGE=en-us:NAIDOC Assembly
SEQUENCE:0
DESCRIPTION:NAIDOC Assembly
END:VEVENT
TRANSP:TRANSPARENT
END:VCALENDAR
