BEGIN:VCALENDAR
VERSION:2.0
PRODID:-//Department Of Education//4ca6842e-d9db-4e7c-a3da-b5e58f81f439
BEGIN:VTIMEZONE
TZID:Australia/Sydney
TZURL:http://tzurl.org/zoneinfo-outlook/Australia/Sydney
X-LIC-LOCATION:Australia/Sydney
BEGIN:STANDARD
TZOFFSETFROM:+1100
TZOFFSETTO:+1000
TZNAME:AEST
DTSTART:19700405T030000
RRULE:FREQ=YEARLY;BYMONTH=4;BYDAY=1SU
END:STANDARD
BEGIN:DAYLIGHT
TZOFFSETFROM:+1000
TZOFFSETTO:+1100
TZNAME:AEDT
DTSTART:19701004T020000
RRULE:FREQ=YEARLY;BYMONTH=10;BYDAY=1SU
END:DAYLIGHT
END:VTIMEZONE
CALSCALE:GREGORIAN
X-WR-TIMEZONE:Australia/Sydney
BEGIN:VEVENT
DTSTART;VALUE=DATE:20190701
DTEND;VALUE=DATE:20190706
DTSTAMP:20190701T000000Z
UID:aa841e1b-2796-465f-93e4-620eff421da6
LOCATION:Manilla Central School
SUMMARY;LANGUAGE=en-us:NAIDOC Week
SEQUENCE:0
DESCRIPTION:NAIDOC Week
END:VEVENT
TRANSP:TRANSPARENT
END:VCALENDAR
