BEGIN:VCALENDAR
VERSION:2.0
PRODID:-//Department Of Education//6cc4937d-44d6-463c-a3c7-cb1bd54ed4bf
BEGIN:VTIMEZONE
TZID:Australia/Sydney
TZURL:http://tzurl.org/zoneinfo-outlook/Australia/Sydney
X-LIC-LOCATION:Australia/Sydney
BEGIN:STANDARD
TZOFFSETFROM:+1100
TZOFFSETTO:+1000
TZNAME:AEST
DTSTART:19700405T030000
RRULE:FREQ=YEARLY;BYMONTH=4;BYDAY=1SU
END:STANDARD
BEGIN:DAYLIGHT
TZOFFSETFROM:+1000
TZOFFSETTO:+1100
TZNAME:AEDT
DTSTART:19701004T020000
RRULE:FREQ=YEARLY;BYMONTH=10;BYDAY=1SU
END:DAYLIGHT
END:VTIMEZONE
CALSCALE:GREGORIAN
X-WR-TIMEZONE:Australia/Sydney
BEGIN:VEVENT
DTSTART;TZID=Australia/Sydney:20190704T141500
DTEND;TZID=Australia/Sydney:20190704T150000
DTSTAMP:20190704T000000Z
UID:2209a6f3-67aa-4798-9ea8-2bfcfba295f2
LOCATION:Primary COLA
SUMMARY;LANGUAGE=en-us:Primary PBL Assembly
SEQUENCE:0
DESCRIPTION:Primary PBL Assembly 
END:VEVENT
TRANSP:TRANSPARENT
END:VCALENDAR
