BEGIN:VCALENDAR
VERSION:2.0
PRODID:-//Department Of Education//2163df0c-f166-48b7-b180-7ad3b458e8f0
BEGIN:VTIMEZONE
TZID:Australia/Sydney
TZURL:http://tzurl.org/zoneinfo-outlook/Australia/Sydney
X-LIC-LOCATION:Australia/Sydney
BEGIN:STANDARD
TZOFFSETFROM:+1100
TZOFFSETTO:+1000
TZNAME:AEST
DTSTART:19700405T030000
RRULE:FREQ=YEARLY;BYMONTH=4;BYDAY=1SU
END:STANDARD
BEGIN:DAYLIGHT
TZOFFSETFROM:+1000
TZOFFSETTO:+1100
TZNAME:AEDT
DTSTART:19701004T020000
RRULE:FREQ=YEARLY;BYMONTH=10;BYDAY=1SU
END:DAYLIGHT
END:VTIMEZONE
CALSCALE:GREGORIAN
X-WR-TIMEZONE:Australia/Sydney
BEGIN:VEVENT
DTSTART;VALUE=DATE:20190723
DTEND;VALUE=DATE:20190724
DTSTAMP:20190723T000000Z
UID:baa06e4d-af6d-4c91-a832-91a40f569bb5
LOCATION:Manilla Central School
SUMMARY;LANGUAGE=en-us:Term 3 Commences for students
SEQUENCE:0
DESCRIPTION:First day for students Term 3
END:VEVENT
TRANSP:TRANSPARENT
END:VCALENDAR
