BEGIN:VCALENDAR
VERSION:2.0
PRODID:-//Department Of Education//c0b3bb02-3b80-4cf0-a30b-2b4b86ab5202
BEGIN:VTIMEZONE
TZID:Australia/Sydney
TZURL:http://tzurl.org/zoneinfo-outlook/Australia/Sydney
X-LIC-LOCATION:Australia/Sydney
BEGIN:STANDARD
TZOFFSETFROM:+1100
TZOFFSETTO:+1000
TZNAME:AEST
DTSTART:19700405T030000
RRULE:FREQ=YEARLY;BYMONTH=4;BYDAY=1SU
END:STANDARD
BEGIN:DAYLIGHT
TZOFFSETFROM:+1000
TZOFFSETTO:+1100
TZNAME:AEDT
DTSTART:19701004T020000
RRULE:FREQ=YEARLY;BYMONTH=10;BYDAY=1SU
END:DAYLIGHT
END:VTIMEZONE
CALSCALE:GREGORIAN
X-WR-TIMEZONE:Australia/Sydney
BEGIN:VEVENT
DTSTART;TZID=Australia/Sydney:20190730T170000
DTEND;TZID=Australia/Sydney:20190730T190000
DTSTAMP:20190730T000000Z
UID:28db3245-b6d8-49b9-b363-ba339bfb8440
LOCATION:Secondary Library
SUMMARY;LANGUAGE=en-us:Years 7 - 10 Parent Teacher Night
SEQUENCE:0
DESCRIPTION:Years 7 to 10 Parent Teacher Night
END:VEVENT
TRANSP:TRANSPARENT
END:VCALENDAR
