BEGIN:VCALENDAR
VERSION:2.0
PRODID:-//Department Of Education//15c95440-2d8a-40f2-9aed-4c3e9df807ae
BEGIN:VTIMEZONE
TZID:Australia/Sydney
TZURL:http://tzurl.org/zoneinfo-outlook/Australia/Sydney
X-LIC-LOCATION:Australia/Sydney
BEGIN:STANDARD
TZOFFSETFROM:+1100
TZOFFSETTO:+1000
TZNAME:AEST
DTSTART:19700405T030000
RRULE:FREQ=YEARLY;BYMONTH=4;BYDAY=1SU
END:STANDARD
BEGIN:DAYLIGHT
TZOFFSETFROM:+1000
TZOFFSETTO:+1100
TZNAME:AEDT
DTSTART:19701004T020000
RRULE:FREQ=YEARLY;BYMONTH=10;BYDAY=1SU
END:DAYLIGHT
END:VTIMEZONE
CALSCALE:GREGORIAN
X-WR-TIMEZONE:Australia/Sydney
BEGIN:VEVENT
DTSTART;VALUE=DATE:20190809
DTEND;VALUE=DATE:20190816
DTSTAMP:20190809T000000Z
UID:ecf8b314-fd6f-4240-bcd1-1aaac3b9ba95
LOCATION:Manilla Central School
SUMMARY;LANGUAGE=en-us:Year 12 Trial Exams
SEQUENCE:0
DESCRIPTION:Year 12 Trial Exams
END:VEVENT
TRANSP:TRANSPARENT
END:VCALENDAR
